BEGIN:VCALENDAR
VERSION:2.0
PRODID:spatie/icalendar-generator
DESCRIPTION:Events from Healthy Yards Monroe County
X-WR-CALDESC:Events from Healthy Yards Monroe County
REFRESH-INTERVAL;VALUE=DURATION:PT1440M
X-PUBLISHED-TTL:PT1440M
BEGIN:VTIMEZONE
TZID:America/New_York
BEGIN:STANDARD
DTSTART:20221106T020000Z
TZOFFSETFROM:-0400
TZOFFSETTO:-0500
END:STANDARD
BEGIN:DAYLIGHT
DTSTART:20230312T020000Z
TZOFFSETFROM:-0500
TZOFFSETTO:-0400
END:DAYLIGHT
BEGIN:STANDARD
DTSTART:20231105T020000Z
TZOFFSETFROM:-0400
TZOFFSETTO:-0500
END:STANDARD
END:VTIMEZONE
BEGIN:VTIMEZONE
TZID:UTC
BEGIN:STANDARD
DTSTART:20250725T154400Z
TZOFFSETFROM:+0000
TZOFFSETTO:+0000
END:STANDARD
END:VTIMEZONE
BEGIN:VEVENT
UID:14-10
DTSTAMP:20260421T154400Z
SUMMARY:Amanda's Native Garden Spring Wildflower Celebration
LOCATION:Amanda\\'s Native Garden 8030 Story Road  Dansville New York
ORGANIZER;CN=Joshua Stewart:MAILTO:jjstewar2@outlook.com
DTSTART;TZID=America/New_York:20230505T100000
DTEND;TZID=America/New_York:20230507T160000
X-ALT-DESC;FMTTYPE=TEXT/HTML:Their annual spring event\, come out and enjoy
  the spring wildflowers. They will have their beautiful native plants for 
 sale. They will have demonstrations and guided tours of the property so yo
 u can see native plants in both a garden setting and in the wild. Bring th
 e kids to enjoy their coloring pages and hands&amp;hellip\;
CATEGORIES:Events
URL;VALUE=URI:https://www.healthyyardsmonroecounty.org/mc-events/amandas-na
 tive-garden-spring-wildflower-celebration/
METHOD:PUBLISH
END:VEVENT
END:VCALENDAR