BEGIN:VCALENDAR
VERSION:2.0
PRODID:spatie/icalendar-generator
DESCRIPTION:Events from Healthy Yards Monroe County
X-WR-CALDESC:Events from Healthy Yards Monroe County
REFRESH-INTERVAL;VALUE=DURATION:PT1440M
X-PUBLISHED-TTL:PT1440M
BEGIN:VTIMEZONE
TZID:America/New_York
BEGIN:STANDARD
DTSTART:20221106T020000Z
TZOFFSETFROM:-0400
TZOFFSETTO:-0500
END:STANDARD
BEGIN:DAYLIGHT
DTSTART:20230312T020000Z
TZOFFSETFROM:-0500
TZOFFSETTO:-0400
END:DAYLIGHT
BEGIN:STANDARD
DTSTART:20231105T020000Z
TZOFFSETFROM:-0400
TZOFFSETTO:-0500
END:STANDARD
END:VTIMEZONE
BEGIN:VTIMEZONE
TZID:UTC
BEGIN:STANDARD
DTSTART:20250724T021813Z
TZOFFSETFROM:+0000
TZOFFSETTO:+0000
END:STANDARD
END:VTIMEZONE
BEGIN:VEVENT
UID:6-5
DTSTAMP:20260420T021813Z
SUMMARY:Composting &amp;amp\; Food Waste Reduction PANEL at Fairport Public Lib
 rary (Color Fairport Green)
LOCATION:Fairport Public Library - Community Room 1 Fairport Village Landin
 g  Fairport New York 14450
ORGANIZER;CN=Megan:MAILTO:meganmeyer12@gmail.com
DTSTART;TZID=America/New_York:20230520T130000
DTEND;TZID=America/New_York:20230520T143000
X-ALT-DESC;FMTTYPE=TEXT/HTML:This event is a partnership between Color Fair
 port Green and Fairport Public Library. For more information\, click here.
CATEGORIES:Classes
URL;VALUE=URI:https://www.healthyyardsmonroecounty.org/mc-events/composting
 -food-waste-reduction-panel-at-fairport-public-library-color-fairport-gree
 n/
METHOD:PUBLISH
END:VEVENT
END:VCALENDAR