BEGIN:VCALENDAR
VERSION:2.0
PRODID:spatie/icalendar-generator
DESCRIPTION:Events from Healthy Yards Monroe County
X-WR-CALDESC:Events from Healthy Yards Monroe County
REFRESH-INTERVAL;VALUE=DURATION:PT1440M
X-PUBLISHED-TTL:PT1440M
BEGIN:VTIMEZONE
TZID:America/New_York
BEGIN:STANDARD
DTSTART:20221106T020000Z
TZOFFSETFROM:-0400
TZOFFSETTO:-0500
END:STANDARD
BEGIN:DAYLIGHT
DTSTART:20230312T020000Z
TZOFFSETFROM:-0500
TZOFFSETTO:-0400
END:DAYLIGHT
BEGIN:STANDARD
DTSTART:20231105T020000Z
TZOFFSETFROM:-0400
TZOFFSETTO:-0500
END:STANDARD
END:VTIMEZONE
BEGIN:VTIMEZONE
TZID:UTC
BEGIN:STANDARD
DTSTART:20250725T183813Z
TZOFFSETFROM:+0000
TZOFFSETTO:+0000
END:STANDARD
END:VTIMEZONE
BEGIN:VEVENT
UID:17-11
DTSTAMP:20260421T183813Z
SUMMARY:Amanda's Native Garden Rochester Public Market - Flower City Sunday
 s
LOCATION:Rochester Public Market 280 Union Street N  Rochester New York 146
 09
ORGANIZER;CN=Joshua Stewart:MAILTO:jjstewar2@outlook.com
DTSTART;TZID=America/New_York:20230528T080000
DTEND;TZID=America/New_York:20230528T140000
X-ALT-DESC;FMTTYPE=TEXT/HTML:You can order plants from Amanda's Native Gard
 en before the sale and have them saved for you. If you are looking for spe
 cific plants\, we will make sure to bring them to the sale\, just give the
 m a call or send an email. (585)750-6288 or email at ellen@amandasnativepl
 ants.com
CATEGORIES:Classes
URL;VALUE=URI:https://www.healthyyardsmonroecounty.org/mc-events/amandas-na
 tive-garden-rochester-public-market-flower-city-sundays/
METHOD:PUBLISH
END:VEVENT
END:VCALENDAR