BEGIN:VCALENDAR
VERSION:2.0
PRODID:spatie/icalendar-generator
DESCRIPTION:Events from Healthy Yards Monroe County
X-WR-CALDESC:Events from Healthy Yards Monroe County
REFRESH-INTERVAL;VALUE=DURATION:PT1440M
X-PUBLISHED-TTL:PT1440M
BEGIN:VTIMEZONE
TZID:America/New_York
BEGIN:STANDARD
DTSTART:20231105T020000Z
TZOFFSETFROM:-0400
TZOFFSETTO:-0500
END:STANDARD
BEGIN:DAYLIGHT
DTSTART:20240310T020000Z
TZOFFSETFROM:-0500
TZOFFSETTO:-0400
END:DAYLIGHT
END:VTIMEZONE
BEGIN:VTIMEZONE
TZID:UTC
BEGIN:STANDARD
DTSTART:20250725T185615Z
TZOFFSETFROM:+0000
TZOFFSETTO:+0000
END:STANDARD
END:VTIMEZONE
BEGIN:VEVENT
UID:29-22
DTSTAMP:20260421T185615Z
SUMMARY:Enhance Your Existing Landscape and Gardens with Native Plants
LOCATION:Penfield Recreation Center 1985 Baird Rd  Penfield New York 14526
ORGANIZER;CN=Megan:MAILTO:meganmeyer12@gmail.com
DTSTART;TZID=America/New_York:20240215T180000
DTEND;TZID=America/New_York:20240215T193000
X-ALT-DESC;FMTTYPE=TEXT/HTML:Many of us started gardening before we learned
  how important native plants are for our local ecosystems. How do we enhan
 ce our yards to make them more sustainable and resilient yet keep some of 
 our favorite non-native plants? You will learn simple design tips on addin
 g native plants to your garden and landscapes\, receive resources&amp;hellip\;
CATEGORIES:Classes
URL;VALUE=URI:https://www.healthyyardsmonroecounty.org/mc-events/enhance-yo
 ur-existing-landscape-and-gardens-with-native-plants-2/
METHOD:PUBLISH
END:VEVENT
END:VCALENDAR