BEGIN:VCALENDAR
VERSION:2.0
PRODID:spatie/icalendar-generator
DESCRIPTION:Events from Healthy Yards Monroe County
X-WR-CALDESC:Events from Healthy Yards Monroe County
REFRESH-INTERVAL;VALUE=DURATION:PT1440M
X-PUBLISHED-TTL:PT1440M
BEGIN:VTIMEZONE
TZID:America/New_York
BEGIN:STANDARD
DTSTART:20231105T020000Z
TZOFFSETFROM:-0400
TZOFFSETTO:-0500
END:STANDARD
BEGIN:DAYLIGHT
DTSTART:20240310T020000Z
TZOFFSETFROM:-0500
TZOFFSETTO:-0400
END:DAYLIGHT
END:VTIMEZONE
BEGIN:VTIMEZONE
TZID:UTC
BEGIN:STANDARD
DTSTART:20250725T154522Z
TZOFFSETFROM:+0000
TZOFFSETTO:+0000
END:STANDARD
END:VTIMEZONE
BEGIN:VEVENT
UID:30-23
DTSTAMP:20260421T154522Z
SUMMARY:Rethinking the American Lawn
LOCATION:Penfield Recreation Center 1985 Baird Rd  Penfield New York 14526
ORGANIZER;CN=Megan:MAILTO:meganmeyer12@gmail.com
DTSTART;TZID=America/New_York:20240328T180000
DTEND;TZID=America/New_York:20240328T193000
X-ALT-DESC;FMTTYPE=TEXT/HTML:“Americans love their lawns with a passion r
 arely seen in other countries\; fifty-eight million Americans enthusiastic
 ally plant\, weed\, water\, spray\, and mow an estimated twenty million ac
 res of lawn. But is our dedication to these lawns contributing to the seri
 ous environmental problems facing the planet?” -F. Herbert Bormann Join 
 the presentation and discussion on how&amp;hellip\;
CATEGORIES:Classes
URL;VALUE=URI:https://www.healthyyardsmonroecounty.org/mc-events/rethinking
 -the-american-lawn-2/
METHOD:PUBLISH
END:VEVENT
END:VCALENDAR