BEGIN:VCALENDAR
VERSION:2.0
PRODID:spatie/icalendar-generator
DESCRIPTION:Events from Healthy Yards Monroe County
X-WR-CALDESC:Events from Healthy Yards Monroe County
REFRESH-INTERVAL;VALUE=DURATION:PT1440M
X-PUBLISHED-TTL:PT1440M
BEGIN:VTIMEZONE
TZID:America/New_York
BEGIN:STANDARD
DTSTART:20221106T020000Z
TZOFFSETFROM:-0400
TZOFFSETTO:-0500
END:STANDARD
BEGIN:DAYLIGHT
DTSTART:20230312T020000Z
TZOFFSETFROM:-0500
TZOFFSETTO:-0400
END:DAYLIGHT
END:VTIMEZONE
BEGIN:VTIMEZONE
TZID:UTC
BEGIN:STANDARD
DTSTART:20250725T171832Z
TZOFFSETFROM:+0000
TZOFFSETTO:+0000
END:STANDARD
END:VTIMEZONE
BEGIN:VEVENT
UID:7-2
DTSTAMP:20260421T171832Z
SUMMARY:Planting and caring for a native pollinator garden (Session A)
LOCATION:Penfield Library 1985 Baird Road Ruth Brayman Room Penfield New Yo
 rk 14526
ORGANIZER;CN=Megan:MAILTO:meganmeyer12@gmail.com
DTSTART;TZID=America/New_York:20230429T093000
DTEND;TZID=America/New_York:20230429T113000
X-ALT-DESC;FMTTYPE=TEXT/HTML:Registration opens 3/24\, registrants must att
 end both classes for the session they choose. Registration is required. To
  register\, you can click Session A.
CATEGORIES:Classes
URL;VALUE=URI:https://www.healthyyardsmonroecounty.org/mc-events/planting-a
 nd-caring-for-a-native-pollinator-garden-session-a/
METHOD:PUBLISH
END:VEVENT
END:VCALENDAR